1.0000000000
0.0000000000
0.0000000000
-1.0000000000
617000.5000000000
5350999.5000000009
