1.0000000000
0.0000000000
0.0000000000
-1.0000000000
616000.4999999997
5359846.5000000009
