1.0000000000
0.0000000000
0.0000000000
-1.0000000000
616000.5000000001
5353999.5000000019
