1.0000000000
0.0000000000
0.0000000000
-1.0000000000
616000.4999999991
5337999.5000000009
