1.0000000000
0.0000000000
0.0000000000
-1.0000000000
616000.5000000000
5334999.5000000000
