1.0000000000
0.0000000000
0.0000000000
-1.0000000000
616069.5000000002
5321999.5000000009
