1.0000000000
0.0000000000
0.0000000000
-1.0000000000
615000.4999999994
5337999.5000000009
