1.0000000000
0.0000000000
0.0000000000
-1.0000000000
615775.4999999990
5331999.5000000009
