1.0000000000
0.0000000000
0.0000000000
-1.0000000000
614000.4999999998
5343999.5000000000
