1.0000000000
0.0000000000
0.0000000000
-1.0000000000
614000.4999999987
5332999.5000000019
