1.0000000000
0.0000000000
0.0000000000
-1.0000000000
613000.4999999993
5349999.5000000009
