1.0000000000
0.0000000000
0.0000000000
-1.0000000000
612000.4999999997
5350999.5000000000
