1.0000000000
0.0000000000
0.0000000000
-1.0000000000
612000.4999999994
5340999.5000000009
