1.0000000000
0.0000000000
0.0000000000
-1.0000000000
612000.4999999995
5335999.5000000000
