1.0000000000
0.0000000000
0.0000000000
-1.0000000000
611000.4999999998
5350999.5000000009
