1.0000000000
0.0000000000
0.0000000000
-1.0000000000
610000.4999999993
5358999.5000000000
