1.0000000000
0.0000000000
0.0000000000
-1.0000000000
610000.4999999993
5355999.5000000009
