1.0000000000
0.0000000000
0.0000000000
-1.0000000000
609000.5000000002
5350999.5000000009
