1.0000000000
0.0000000000
0.0000000000
-1.0000000000
609000.4999999997
5347999.5000000009
