1.0000000000
0.0000000000
0.0000000000
-1.0000000000
609767.4999999987
5334999.5000000000
