1.0000000000
0.0000000000
0.0000000000
-1.0000000000
608000.4999999991
5357999.5000000009
