1.0000000000
0.0000000000
0.0000000000
-1.0000000000
608000.4999999994
5354999.5000000009
