1.0000000000
0.0000000000
0.0000000000
-1.0000000000
607000.4999999993
5341999.5000000000
