1.0000000000
0.0000000000
0.0000000000
-1.0000000000
607000.4999999994
5338999.5000000009
