1.0000000000
0.0000000000
0.0000000000
-1.0000000000
607000.5000000000
5337999.5000000000
