1.0000000000
0.0000000000
0.0000000000
-1.0000000000
606000.4999999991
5361276.5000000009
