1.0000000000
0.0000000000
0.0000000000
-1.0000000000
606000.4999999994
5345999.5000000000
