1.0000000000
0.0000000000
0.0000000000
-1.0000000000
606000.4999999999
5342999.5000000000
