1.0000000000
0.0000000000
0.0000000000
-1.0000000000
606000.4999999995
5341999.5000000009
