1.0000000000
0.0000000000
0.0000000000
-1.0000000000
606983.5000000004
5336999.5000000000
