1.0000000000
0.0000000000
0.0000000000
-1.0000000000
605000.4999999992
5349999.5000000009
