1.0000000000
0.0000000000
0.0000000000
-1.0000000000
604000.5000000005
5351999.5000000000
