1.0000000000
0.0000000000
0.0000000000
-1.0000000000
604000.5000000001
5340999.5000000009
