1.0000000000
0.0000000000
0.0000000000
-1.0000000000
603000.4999999991
5358999.5000000000
