1.0000000000
0.0000000000
0.0000000000
-1.0000000000
602000.4999999993
5351999.5000000009
