1.0000000000
0.0000000000
0.0000000000
-1.0000000000
601515.4999999993
5354999.5000000000
