1.0000000000
0.0000000000
0.0000000000
-1.0000000000
601000.4999999992
5346999.5000000000
