1.0000000000
0.0000000000
0.0000000000
-1.0000000000
600000.4999999995
5347999.5000000009
