1.0000000000
0.0000000000
0.0000000000
-1.0000000000
599000.5000000006
5350999.5000000000
