1.0000000000
0.0000000000
0.0000000000
-1.0000000000
597000.4999999993
5348999.5000000000
