1.0000000000
0.0000000000
0.0000000000
-1.0000000000
597000.4999999991
5345999.5000000000
