1.0000000000
0.0000000000
0.0000000000
-1.0000000000
597000.4999999992
5343999.5000000000
