1.0000000000
0.0000000000
0.0000000000
-1.0000000000
596000.5000000005
5348999.5000000000
