1.0000000000
0.0000000000
0.0000000000
-1.0000000000
596000.4999999993
5345999.5000000000
