1.0000000000
0.0000000000
0.0000000000
-1.0000000000
595015.4999999992
5348999.5000000000
