1.0000000000
0.0000000000
0.0000000000
-1.0000000000
595000.4999999993
5346999.5000000000
