1.0000000000
0.0000000000
0.0000000000
-1.0000000000
594923.5000000006
5343999.5000000000
