1.0000000000
0.0000000000
0.0000000000
-1.0000000000
620000.4999999998
5317032.5000000009
