1.0000000000
0.0000000000
0.0000000000
-1.0000000000
620000.4999999997
5315999.5000000000
