1.0000000000
0.0000000000
0.0000000000
-1.0000000000
616000.4999999993
5314999.5000000000
